BEGIN:VCALENDAR
PRODID://WordPress//Event-Post-V5.9.2//EN
VERSION:2.0
BEGIN:VTIMEZONE
TZID:Europe/Berlin
BEGIN:DAYLIGHT
TZOFFSETFROM:+0100
TZOFFSETTO:+0200
DTSTART:19700329T020000
RRULE:FREQ=YEARLY;BYDAY=-1SU;BYMONTH=3
END:DAYLIGHT
BEGIN:STANDARD
TZOFFSETFROM:+0200
TZOFFSETTO:+0100
TZNAME:CET
DTSTART:19701025T030000
RRULE:FREQ=YEARLY;BYDAY=-1SU;BYMONTH=10
END:STANDARD
END:VTIMEZONE
BEGIN:VEVENT
SUMMARY:Präsentation von Najet Adouanis „Cold War, Hot Autumn“ im Bremer Sujet-Verlag
UID:https://pen-deutschland.de/praesentation-von-najet-adouanis-cold-war-hot-autumn-im-bremer-sujet-verlag/
LOCATION:
DTSTAMP:19700101T000000
DTSTART;TZID=Europe/Berlin:19700101T000000
DTEND;TZID=Europe/Berlin:19700101T000000
DESCRIPTION:Zu einem kleinen literarischen Fest im trauten Kreis der PEN-Familie mit
zahlreichen Gästen entwickelte sich die Vorstellung des neuen Buchs
unserer ehemaligen PEN-Stipendiatin Najet Adouani, zu der Madjid Mohit und
sein mehrfach preisgekrönter Sujet-Verlag (u. a. Kesten-Preisträger) in
Bremen in die Bornstraße eingeladen hatte. Der Verlag hatte ihr
Kreuzberger Tagebuch „Cold War, Hot Autumn“ in einer aufwändig
gestalteten Hardcover-Ausgabe mit Lesebändchen und Gummiband (wie ein
Moleskine-Notizbuch) herausgebracht.
END:VEVENT
END:VCALENDAR