BEGIN:VCALENDAR
PRODID://WordPress//Event-Post-V5.9.2//EN
VERSION:2.0
BEGIN:VTIMEZONE
TZID:Europe/Berlin
BEGIN:DAYLIGHT
TZOFFSETFROM:+0100
TZOFFSETTO:+0200
DTSTART:19700329T020000
RRULE:FREQ=YEARLY;BYDAY=-1SU;BYMONTH=3
END:DAYLIGHT
BEGIN:STANDARD
TZOFFSETFROM:+0200
TZOFFSETTO:+0100
TZNAME:CET
DTSTART:19701025T030000
RRULE:FREQ=YEARLY;BYDAY=-1SU;BYMONTH=10
END:STANDARD
END:VTIMEZONE
BEGIN:VEVENT
SUMMARY:PEN Deutschland verurteilt Haftstrafe gegen Kamel Daoud
UID:https://pen-deutschland.de/pen-deutschland-verurteilt-haftstrafe-gegen-kamel-daoud/
LOCATION:
DTSTAMP:19700101T000000
DTSTART;TZID=Europe/Berlin:19700101T000000
DTEND;TZID=Europe/Berlin:19700101T000000
DESCRIPTION:Pressemitteilung, Darmstadt, 23.4.2026. Ein algerisches Gericht hat den in
Paris lebenden Schriftsteller Kamel Daoud in Abwesenheit zu einer
dreijährigen Haftstrafe ohne Bewährung sowie einer hohen Geldbuße
verurteilt. PEN Deutschland kritisiert dieses Urteil als massiven Angriff
auf die Meinungs- und Kunstfreiheit.
END:VEVENT
END:VCALENDAR