BEGIN:VCALENDAR
PRODID://WordPress//Event-Post-V5.9.2//EN
VERSION:2.0
BEGIN:VTIMEZONE
TZID:Europe/Berlin
BEGIN:DAYLIGHT
TZOFFSETFROM:+0100
TZOFFSETTO:+0200
DTSTART:19700329T020000
RRULE:FREQ=YEARLY;BYDAY=-1SU;BYMONTH=3
END:DAYLIGHT
BEGIN:STANDARD
TZOFFSETFROM:+0200
TZOFFSETTO:+0100
TZNAME:CET
DTSTART:19701025T030000
RRULE:FREQ=YEARLY;BYDAY=-1SU;BYMONTH=10
END:STANDARD
END:VTIMEZONE
BEGIN:VEVENT
SUMMARY:Cold War, Hot Autumn (Najet Adouani) - Lesung und Gespräch im Sujet Verlag in Bremen
UID:https://pen-deutschland.de/cold-war-hot-autumn-najet-adouani-lesung-und-gespraech-im-sujet-verlag-in-bremen/
LOCATION:
DTSTAMP:19700101T000000
DTSTART;TZID=Europe/Berlin:19700101T000000
DTEND;TZID=Europe/Berlin:19700101T000000
DESCRIPTION:Die PEN-Mitglieder Sabine Schiffner und Andreas Rumler stellen im
Sujet-Verlag des Kesten-Preisträgers Madjid Mohit in Bremen das neue Buch
der ehemaligen Writers-in-Exile-Stipendiatin Najet Adouani vor
END:VEVENT
END:VCALENDAR