BEGIN:VCALENDAR
PRODID://WordPress//Event-Post-V5.9.2//EN
VERSION:2.0
BEGIN:VTIMEZONE
TZID:Europe/Berlin
BEGIN:DAYLIGHT
TZOFFSETFROM:+0100
TZOFFSETTO:+0200
DTSTART:19700329T020000
RRULE:FREQ=YEARLY;BYDAY=-1SU;BYMONTH=3
END:DAYLIGHT
BEGIN:STANDARD
TZOFFSETFROM:+0200
TZOFFSETTO:+0100
TZNAME:CET
DTSTART:19701025T030000
RRULE:FREQ=YEARLY;BYDAY=-1SU;BYMONTH=10
END:STANDARD
END:VTIMEZONE
BEGIN:VEVENT
SUMMARY:Zur Situation von Flüchtlingen in Europa: Die Finissage der Ausstellung
UID:https://pen-deutschland.de/zur-situation-von-fluechtlingen-in-europa-die-finissage-der-ausstellung/
LOCATION:
DTSTAMP:19700101T000000
DTSTART;TZID=Europe/Berlin:19700101T000000
DTEND;TZID=Europe/Berlin:19700101T000000
DESCRIPTION:Von Andreas Rumler

PEN-Kollegen in Bremen
Standing for freedom/ Poser pour la liberté am 15. April 2026 in Bremen
END:VEVENT
END:VCALENDAR